BEGIN:VCALENDAR
VERSION:2.0
PRODID:-//Trigeminal Nerve Injuries - ECPv6.0.7//NONSGML v1.0//EN
CALSCALE:GREGORIAN
METHOD:PUBLISH
X-WR-CALNAME:Trigeminal Nerve Injuries
X-ORIGINAL-URL:https://trigeminalnerve.org.uk
X-WR-CALDESC:Events for Trigeminal Nerve Injuries
REFRESH-INTERVAL;VALUE=DURATION:PT1H
X-Robots-Tag:noindex
X-PUBLISHED-TTL:PT1H
BEGIN:VTIMEZONE
TZID:Europe/London
BEGIN:DAYLIGHT
TZOFFSETFROM:+0000
TZOFFSETTO:+0100
TZNAME:BST
DTSTART:20230326T010000
END:DAYLIGHT
BEGIN:STANDARD
TZOFFSETFROM:+0100
TZOFFSETTO:+0000
TZNAME:GMT
DTSTART:20231029T010000
END:STANDARD
END:VTIMEZONE
BEGIN:VEVENT
DTSTART;TZID=Europe/London:20230226T143000
DTEND;TZID=Europe/London:20230226T153000
DTSTAMP:20260422T230919
CREATED:20230119T151414Z
LAST-MODIFIED:20230119T151414Z
UID:987497133-1677421800-1677425400@trigeminalnerve.org.uk
SUMMARY:Commonwealth Dental Association
DESCRIPTION:
URL:https://trigeminalnerve.org.uk/event/commonwealth-dental-association/
END:VEVENT
END:VCALENDAR