BEGIN:VCALENDAR
VERSION:2.0
PRODID:-//Trigeminal Nerve Injuries - ECPv6.0.7//NONSGML v1.0//EN
CALSCALE:GREGORIAN
METHOD:PUBLISH
X-ORIGINAL-URL:https://trigeminalnerve.org.uk
X-WR-CALDESC:Events for Trigeminal Nerve Injuries
REFRESH-INTERVAL;VALUE=DURATION:PT1H
X-Robots-Tag:noindex
X-PUBLISHED-TTL:PT1H
BEGIN:VTIMEZONE
TZID:Europe/London
BEGIN:DAYLIGHT
TZOFFSETFROM:+0000
TZOFFSETTO:+0100
TZNAME:BST
DTSTART:20230326T010000
END:DAYLIGHT
BEGIN:STANDARD
TZOFFSETFROM:+0100
TZOFFSETTO:+0000
TZNAME:GMT
DTSTART:20231029T010000
END:STANDARD
END:VTIMEZONE
BEGIN:VEVENT
DTSTART;TZID=Europe/London:20230924T090000
DTEND;TZID=Europe/London:20230924T094500
DTSTAMP:20260420T084659
CREATED:20230119T151732Z
LAST-MODIFIED:20230512T120614Z
UID:987497137-1695546000-1695548700@trigeminalnerve.org.uk
SUMMARY:FDI World Dental Congress
DESCRIPTION:Orofacial Pain – Differential diagnosis 
URL:https://trigeminalnerve.org.uk/event/fdi-world-dental-congress/
END:VEVENT
END:VCALENDAR